BEGIN:VCALENDAR
VERSION:2.0
PRODID:-//News about Immersive Theatres in Europe - ECPv5.14.1//NONSGML v1.0//EN
CALSCALE:GREGORIAN
METHOD:PUBLISH
X-WR-CALNAME:News about Immersive Theatres in Europe
X-ORIGINAL-URL:https://immersive-theatre.com
X-WR-CALDESC:Events for News about Immersive Theatres in Europe
REFRESH-INTERVAL;VALUE=DURATION:PT1H
X-Robots-Tag:noindex
X-PUBLISHED-TTL:PT1H
BEGIN:VTIMEZONE
TZID:UTC
BEGIN:STANDARD
TZOFFSETFROM:+0000
TZOFFSETTO:+0000
TZNAME:UTC
DTSTART:20220101T000000
END:STANDARD
END:VTIMEZONE
BEGIN:VEVENT
DTSTART;VALUE=DATE:20220910
DTEND;VALUE=DATE:20221110
DTSTAMP:20260421T174322
CREATED:20220410T195659Z
LAST-MODIFIED:20220410T195659Z
UID:289-1662768000-1668038399@immersive-theatre.com
SUMMARY:Devil's Exorcist: Interactive Theatre [Germany]
DESCRIPTION:Share this:RedditWhatsAppTwitterFacebookMoreLinkedInTumblrPinterestTelegram
URL:https://immersive-theatre.com/event/devils-exorcist-interactive-theatre-germany/
CATEGORIES:Berlin,Germany
END:VEVENT
BEGIN:VEVENT
DTSTART;VALUE=DATE:20220627
DTEND;VALUE=DATE:20220714
DTSTAMP:20260421T174322
CREATED:20220409T173820Z
LAST-MODIFIED:20220409T191930Z
UID:256-1656288000-1657756799@immersive-theatre.com
SUMMARY:Theater ANU. Poetische Welten [Berlin\, Germany]
DESCRIPTION:Share this:RedditWhatsAppTwitterFacebookMoreLinkedInTumblrPinterestTelegram
URL:https://immersive-theatre.com/event/theater-anu-poetische-welten-berlin/
CATEGORIES:Berlin,Germany
END:VEVENT
BEGIN:VEVENT
DTSTART;VALUE=DATE:20220602
DTEND;VALUE=DATE:20220606
DTSTAMP:20260421T174322
CREATED:20220409T191909Z
LAST-MODIFIED:20220514T232141Z
UID:262-1654128000-1654473599@immersive-theatre.com
SUMMARY:LIFE: Eine DNA ENGINE - OutOfTheBox [Berlin\, Germany]
DESCRIPTION:Share this:RedditWhatsAppTwitterFacebookMoreLinkedInTumblrPinterestTelegram
URL:https://immersive-theatre.com/event/life-eine-dna-engine-outofthebox-berlin-germany/
CATEGORIES:Berlin,Germany
END:VEVENT
BEGIN:VEVENT
DTSTART;VALUE=DATE:20220601
DTEND;VALUE=DATE:20220606
DTSTAMP:20260421T174322
CREATED:20220514T232108Z
LAST-MODIFIED:20220514T232108Z
UID:378-1654041600-1654473599@immersive-theatre.com
SUMMARY:Line of Fire [London\, UK]
DESCRIPTION:Share this:RedditWhatsAppTwitterFacebookMoreLinkedInTumblrPinterestTelegram
URL:https://immersive-theatre.com/event/line-of-fire-london-uk/
CATEGORIES:London,UK
END:VEVENT
BEGIN:VEVENT
DTSTART;VALUE=DATE:20220521
DTEND;VALUE=DATE:20220524
DTSTAMP:20260421T174322
CREATED:20220514T211115Z
LAST-MODIFIED:20220514T211115Z
UID:375-1653091200-1653350399@immersive-theatre.com
SUMMARY:Schöpferwissen [Berlin\, Germany]
DESCRIPTION:Share this:RedditWhatsAppTwitterFacebookMoreLinkedInTumblrPinterestTelegram
URL:https://immersive-theatre.com/event/schopferwissen-berlin-germany/
CATEGORIES:Berlin,Germany
END:VEVENT
BEGIN:VEVENT
DTSTART;VALUE=DATE:20220520
DTEND;VALUE=DATE:20220905
DTSTAMP:20260421T174322
CREATED:20220410T074457Z
LAST-MODIFIED:20220410T074457Z
UID:273-1653004800-1662335999@immersive-theatre.com
SUMMARY:The Gunpowder Plot [London\, UK]
DESCRIPTION:Share this:RedditWhatsAppTwitterFacebookMoreLinkedInTumblrPinterestTelegram
URL:https://immersive-theatre.com/event/the-gunpowder-plot-london-uk/
CATEGORIES:London,UK
END:VEVENT
BEGIN:VEVENT
DTSTART;VALUE=DATE:20220518
DTEND;VALUE=DATE:20220522
DTSTAMP:20260421T174322
CREATED:20220423T075121Z
LAST-MODIFIED:20220423T075121Z
UID:363-1652832000-1653177599@immersive-theatre.com
SUMMARY:The Last Sunset [Gabrovo\, Bulgaria]
DESCRIPTION:Share this:RedditWhatsAppTwitterFacebookMoreLinkedInTumblrPinterestTelegram
URL:https://immersive-theatre.com/event/the-last-sunset-gabrovo-bulgaria/
CATEGORIES:Other
END:VEVENT
BEGIN:VEVENT
DTSTART;VALUE=DATE:20220514
DTEND;VALUE=DATE:20220624
DTSTAMP:20260421T174322
CREATED:20220504T131023Z
LAST-MODIFIED:20220504T131023Z
UID:369-1652486400-1656028799@immersive-theatre.com
SUMMARY:CARGO Shanghai - Friesland [Leeuwarden\, Netherlands]
DESCRIPTION:Share this:RedditWhatsAppTwitterFacebookMoreLinkedInTumblrPinterestTelegram
URL:https://immersive-theatre.com/event/cargo-shanghai-friesland-leeuwarden-netherlands/
CATEGORIES:Other
END:VEVENT
BEGIN:VEVENT
DTSTART;VALUE=DATE:20220510
DTEND;VALUE=DATE:20220527
DTSTAMP:20260421T174322
CREATED:20220504T130742Z
LAST-MODIFIED:20220504T130742Z
UID:367-1652140800-1653609599@immersive-theatre.com
SUMMARY:Black Box\, Phantom Theatre for One [Vienna\, Austria]
DESCRIPTION:Share this:RedditWhatsAppTwitterFacebookMoreLinkedInTumblrPinterestTelegram
URL:https://immersive-theatre.com/event/black-box-phantom-theatre-for-one-vienna-austria/
CATEGORIES:Other
END:VEVENT
BEGIN:VEVENT
DTSTART;VALUE=DATE:20220506
DTEND;VALUE=DATE:20220508
DTSTAMP:20260421T174322
CREATED:20220409T191759Z
LAST-MODIFIED:20220409T191759Z
UID:260-1651795200-1651967999@immersive-theatre.com
SUMMARY:Inkognito Theater ANU [Berlin\, Germany]
DESCRIPTION:Share this:RedditWhatsAppTwitterFacebookMoreLinkedInTumblrPinterestTelegram
URL:https://immersive-theatre.com/event/inkognito-theater-anu-berlin-germany/
CATEGORIES:Berlin,Germany
END:VEVENT
BEGIN:VEVENT
DTSTART;VALUE=DATE:20220506
DTEND;VALUE=DATE:20220523
DTSTAMP:20260421T174322
CREATED:20220409T191645Z
LAST-MODIFIED:20220409T191654Z
UID:258-1651795200-1653263999@immersive-theatre.com
SUMMARY:“Die Ruhe” SIGNA [Germany]
DESCRIPTION:Share this:RedditWhatsAppTwitterFacebookMoreLinkedInTumblrPinterestTelegram
URL:https://immersive-theatre.com/event/die-ruhe-signa-germany/
CATEGORIES:Berlin,Germany
END:VEVENT
BEGIN:VEVENT
DTSTART;VALUE=DATE:20220503
DTEND;VALUE=DATE:20220613
DTSTAMP:20260421T174322
CREATED:20220512T190549Z
LAST-MODIFIED:20220512T190549Z
UID:372-1651536000-1655078399@immersive-theatre.com
SUMMARY:Unchain Me [Brighton\, UK]
DESCRIPTION:Share this:RedditWhatsAppTwitterFacebookMoreLinkedInTumblrPinterestTelegram
URL:https://immersive-theatre.com/event/unchain-me-brighton-uk/
CATEGORIES:UK
END:VEVENT
BEGIN:VEVENT
DTSTART;VALUE=DATE:20220430
DTEND;VALUE=DATE:20220501
DTSTAMP:20260421T174322
CREATED:20220420T113241Z
LAST-MODIFIED:20220420T113241Z
UID:339-1651276800-1651363199@immersive-theatre.com
SUMMARY:SENSORIALITY: The AGAPÈ [Sound Installation in Berlin\, Germany]
DESCRIPTION:Share this:RedditWhatsAppTwitterFacebookMoreLinkedInTumblrPinterestTelegram
URL:https://immersive-theatre.com/event/sensoriality-the-agape-sound-installation-in-berlin-germany/
CATEGORIES:Berlin,Germany
END:VEVENT
BEGIN:VEVENT
DTSTART;VALUE=DATE:20220410
DTEND;VALUE=DATE:20220501
DTSTAMP:20260421T174322
CREATED:20220409T215902Z
LAST-MODIFIED:20220409T215902Z
UID:269-1649548800-1651363199@immersive-theatre.com
SUMMARY:Viper Squad: Live [London\, UK]
DESCRIPTION:Share this:RedditWhatsAppTwitterFacebookMoreLinkedInTumblrPinterestTelegram
URL:https://immersive-theatre.com/event/viper-squad-live-london-uk/
CATEGORIES:London,UK
END:VEVENT
BEGIN:VEVENT
DTSTART;VALUE=DATE:20220408
DTEND;VALUE=DATE:20220410
DTSTAMP:20260421T174322
CREATED:20220412T144508Z
LAST-MODIFIED:20220412T144520Z
UID:331-1649376000-1649548799@immersive-theatre.com
SUMMARY:SepulTour - Post Theater [Dresden]
DESCRIPTION:Share this:RedditWhatsAppTwitterFacebookMoreLinkedInTumblrPinterestTelegram
URL:https://immersive-theatre.com/event/sepultour-post-theatre-dresden/
CATEGORIES:Berlin,Germany
END:VEVENT
BEGIN:VEVENT
DTSTART;VALUE=DATE:20220328
DTEND;VALUE=DATE:20220501
DTSTAMP:20260421T174322
CREATED:20220410T075619Z
LAST-MODIFIED:20220410T075653Z
UID:279-1648425600-1651363199@immersive-theatre.com
SUMMARY:Bridgerton Ball [London\, UK]
DESCRIPTION:Share this:RedditWhatsAppTwitterFacebookMoreLinkedInTumblrPinterestTelegram
URL:https://immersive-theatre.com/event/bridgerton-ball-london-uk/
CATEGORIES:London,UK
END:VEVENT
BEGIN:VEVENT
DTSTART;VALUE=DATE:20220328
DTEND;VALUE=DATE:20221101
DTSTAMP:20260421T174322
CREATED:20220410T075345Z
LAST-MODIFIED:20220410T075345Z
UID:277-1648425600-1667260799@immersive-theatre.com
SUMMARY:The Great Gatsby [London\, UK]
DESCRIPTION:Share this:RedditWhatsAppTwitterFacebookMoreLinkedInTumblrPinterestTelegram
URL:https://immersive-theatre.com/event/the-great-gatsby-london-uk/
CATEGORIES:London,UK
END:VEVENT
BEGIN:VEVENT
DTSTART;VALUE=DATE:20220328
DTEND;VALUE=DATE:20220927
DTSTAMP:20260421T174322
CREATED:20220409T214208Z
LAST-MODIFIED:20220409T214306Z
UID:266-1648425600-1664236799@immersive-theatre.com
SUMMARY:Doctor Who Time Fracture [London\, UK]
DESCRIPTION:Share this:RedditWhatsAppTwitterFacebookMoreLinkedInTumblrPinterestTelegram
URL:https://immersive-theatre.com/event/doctor-who-time-fracture-london-uk/
CATEGORIES:London,UK
END:VEVENT
BEGIN:VEVENT
DTSTART;VALUE=DATE:20220328
DTEND;VALUE=DATE:20220517
DTSTAMP:20260421T174322
CREATED:20220409T172310Z
LAST-MODIFIED:20220409T214324Z
UID:246-1648425600-1652745599@immersive-theatre.com
SUMMARY:Le Bal de Paris – A Virtual Dance Experience [London]
DESCRIPTION:Share this:RedditWhatsAppTwitterFacebookMoreLinkedInTumblrPinterestTelegram
URL:https://immersive-theatre.com/event/le-bal-de-paris-a-virtual-dance-experience-london/
CATEGORIES:London,UK
END:VEVENT
BEGIN:VEVENT
DTSTART;VALUE=DATE:20220325
DTEND;VALUE=DATE:20220326
DTSTAMP:20260421T174322
CREATED:20220412T145947Z
LAST-MODIFIED:20220412T145947Z
UID:334-1648166400-1648252799@immersive-theatre.com
SUMMARY:SPOOKAI - Post Theater [Dresden]
DESCRIPTION:Share this:RedditWhatsAppTwitterFacebookMoreLinkedInTumblrPinterestTelegram
URL:https://immersive-theatre.com/event/spookai-post-theater-dresden/
CATEGORIES:Germany
END:VEVENT
BEGIN:VEVENT
DTSTART;VALUE=DATE:20220323
DTEND;VALUE=DATE:20230925
DTSTAMP:20260421T174322
CREATED:20220409T165459Z
LAST-MODIFIED:20230809T152532Z
UID:235-1647993600-1695599999@immersive-theatre.com
SUMMARY:Punchdrunk: The Burnt City [London]
DESCRIPTION:Share this:RedditWhatsAppTwitterFacebookMoreLinkedInTumblrPinterestTelegram
URL:https://immersive-theatre.com/event/punchdrunk-the-burnt-city-london/
CATEGORIES:London,UK
END:VEVENT
END:VCALENDAR