BEGIN:VCALENDAR
VERSION:2.0
PRODID:-//News about Immersive Theatres in Europe - ECPv5.14.1//NONSGML v1.0//EN
CALSCALE:GREGORIAN
METHOD:PUBLISH
X-WR-CALNAME:News about Immersive Theatres in Europe
X-ORIGINAL-URL:https://immersive-theatre.com
X-WR-CALDESC:Events for News about Immersive Theatres in Europe
REFRESH-INTERVAL;VALUE=DURATION:PT1H
X-Robots-Tag:noindex
X-PUBLISHED-TTL:PT1H
BEGIN:VTIMEZONE
TZID:UTC
BEGIN:STANDARD
TZOFFSETFROM:+0000
TZOFFSETTO:+0000
TZNAME:UTC
DTSTART:20220101T000000
END:STANDARD
END:VTIMEZONE
BEGIN:VEVENT
DTSTART;VALUE=DATE:20231111
DTEND;VALUE=DATE:20231218
DTSTAMP:20260421T172842
CREATED:20231204T220109Z
LAST-MODIFIED:20231204T220155Z
UID:457-1699660800-1702857599@immersive-theatre.com
SUMMARY:Within Touching Distance by ZU-UK | London UK
DESCRIPTION:London premiere of virtual reality artwork mixing real life with synchronised one-on-one VR experience facilitated by a live performer. \nShare this:RedditWhatsAppTwitterFacebookMoreLinkedInTumblrPinterestTelegram
URL:https://immersive-theatre.com/event/within-touching-distance-by-zu-uk-london-uk/
CATEGORIES:London,UK
END:VEVENT
BEGIN:VEVENT
DTSTART;VALUE=DATE:20231110
DTEND;VALUE=DATE:20231217
DTSTAMP:20260421T172842
CREATED:20231204T224048Z
LAST-MODIFIED:20231204T224048Z
UID:471-1699574400-1702771199@immersive-theatre.com
SUMMARY:Velvet Pines | London UK
DESCRIPTION:Tucked away just 5 minutes from London Bridge\, for a strictly limited six-week run\, discover a hidden alpine gem – Velvet Pines. Step into the enchanting world of this alpine town\, as you brave the blizzard and take your seat. Get ready to be dazzled by a captivating blend of immersive cabaret performances. \nShare this:RedditWhatsAppTwitterFacebookMoreLinkedInTumblrPinterestTelegram
URL:https://immersive-theatre.com/event/velvet-pines-london-uk/
CATEGORIES:London,UK
END:VEVENT
BEGIN:VEVENT
DTSTART;VALUE=DATE:20231110
DTEND;VALUE=DATE:20231218
DTSTAMP:20260421T172842
CREATED:20231204T220409Z
LAST-MODIFIED:20231204T220409Z
UID:459-1699574400-1702857599@immersive-theatre.com
SUMMARY:Binaural Dinner Date by ZU-UK | London UK
DESCRIPTION:Part audio-led interactive performance\, part dating agency\, BDD invites strangers to get to know each other better. \nShare this:RedditWhatsAppTwitterFacebookMoreLinkedInTumblrPinterestTelegram
URL:https://immersive-theatre.com/event/binaural-dinner-date-by-zu-uk-london-uk/
CATEGORIES:London,UK
END:VEVENT
BEGIN:VEVENT
DTSTART;VALUE=DATE:20231021
DTEND;VALUE=DATE:20231221
DTSTAMP:20260421T172842
CREATED:20230901T133216Z
LAST-MODIFIED:20230901T133216Z
UID:443-1697846400-1703116799@immersive-theatre.com
SUMMARY:Das 13. Jahr | SIGNA [Hamburg]
DESCRIPTION:“Lethe Simulationswelten” in Hamburg recently started offering one of their very special simulations. Behind the gates of an industrial hall on the former Thyssenkrupp site\, you can explore a village surrounded by thick fog. Fantastic mountain panoramas surround ten closely nestled wooden huts in which the villagers live. \nShare this:RedditWhatsAppTwitterFacebookMoreLinkedInTumblrPinterestTelegram
URL:https://immersive-theatre.com/event/das-13-jahr-signa-hamburg/
CATEGORIES:Germany
END:VEVENT
BEGIN:VEVENT
DTSTART;VALUE=DATE:20231019
DTEND;VALUE=DATE:20231218
DTSTAMP:20260421T172842
CREATED:20231204T224707Z
LAST-MODIFIED:20231204T224707Z
UID:475-1697673600-1702857599@immersive-theatre.com
SUMMARY:Immersive 1984 | London UK
DESCRIPTION:This is an immersive show in which you will experience George Orwell’s dystopian vision in an entirely new way. The performance takes place in several locations around Hackney Town Hall including its magnificent Council Chamber. You will follow the action from location to location. \nThe show also contains some optional interaction. \nShare this:RedditWhatsAppTwitterFacebookMoreLinkedInTumblrPinterestTelegram
URL:https://immersive-theatre.com/event/immersive-1984-london-uk/
CATEGORIES:London,UK
END:VEVENT
BEGIN:VEVENT
DTSTART;VALUE=DATE:20231019
DTEND;VALUE=DATE:20231127
DTSTAMP:20260421T172842
CREATED:20230901T132806Z
LAST-MODIFIED:20230901T132806Z
UID:438-1697673600-1701043199@immersive-theatre.com
SUMMARY:1984 [London]
DESCRIPTION:This is an immersive show in which you will experience George Orwell’s dystopian vision in an entirely new way. The performance takes place in several locations around Hackney Town Hall including its magnificent Council Chamber. You will follow the action from location to location. \nShare this:RedditWhatsAppTwitterFacebookMoreLinkedInTumblrPinterestTelegram
URL:https://immersive-theatre.com/event/1984-london/
CATEGORIES:London,UK
END:VEVENT
BEGIN:VEVENT
DTSTART;VALUE=DATE:20231003
DTEND;VALUE=DATE:20231008
DTSTAMP:20260421T172842
CREATED:20230911T152224Z
LAST-MODIFIED:20230911T152224Z
UID:448-1696291200-1696723199@immersive-theatre.com
SUMMARY:The Locksmith’s Dream [UK]
DESCRIPTION:Set in the occult 1920’s\, The Locksmith’s Dream invites guests to step into a magnificent 17th century house in the Monmouthshire  countryside. A mysterious setting which allows guests to explore their own curiosity and moments of joyous realisation when solving intriguing puzzles. Come for a luxury overnight stay and join a narrative occult scavenger hunt of mysterious proportions. \nThe Locksmith’s Dream is an immersive and interactive overnight experience\, with actors in character throughout\, and a stunning venue to explore with puzzle and narrative elements seamlessly threaded through. It combines a narrative\, scavenger hunt\, escape room and theatrical experience with fine dining and cocktails in a unique and beautiful location. \nShare this:RedditWhatsAppTwitterFacebookMoreLinkedInTumblrPinterestTelegram
URL:https://immersive-theatre.com/event/the-locksmiths-dream-uk/
CATEGORIES:UK
END:VEVENT
BEGIN:VEVENT
DTSTART;VALUE=DATE:20230929
DTEND;VALUE=DATE:20231201
DTSTAMP:20260421T172842
CREATED:20230901T132028Z
LAST-MODIFIED:20230901T132028Z
UID:434-1695945600-1701388799@immersive-theatre.com
SUMMARY:Real Self [Barcelona]
DESCRIPTION:Share this:RedditWhatsAppTwitterFacebookMoreLinkedInTumblrPinterestTelegram
URL:https://immersive-theatre.com/event/real-self-barcelona/
CATEGORIES:Other
END:VEVENT
BEGIN:VEVENT
DTSTART;VALUE=DATE:20230914
DTEND;VALUE=DATE:20250203
DTSTAMP:20260421T172842
CREATED:20230901T132526Z
LAST-MODIFIED:20250130T113225Z
UID:436-1694649600-1738540799@immersive-theatre.com
SUMMARY:The Death Of The Crow [Lisbon]
DESCRIPTION:Originally A morte do corvo. The whole play is similar to the work of Punchdrunk. No spoken language apart from the 1:1s. \nShare this:RedditWhatsAppTwitterFacebookMoreLinkedInTumblrPinterestTelegram
URL:https://immersive-theatre.com/event/the-death-of-the-crow-lisbon/
CATEGORIES:Other
END:VEVENT
BEGIN:VEVENT
DTSTART;VALUE=DATE:20230912
DTEND;VALUE=DATE:20230920
DTSTAMP:20260421T172842
CREATED:20230912T074403Z
LAST-MODIFIED:20230912T074403Z
UID:452-1694476800-1695167999@immersive-theatre.com
SUMMARY:mimikry: exomoon [Zurich\, Switzerland]
DESCRIPTION:The international art and science collective seads takes you on a sensory journey to alien solar systems. We set off for an unknown space habitat\, land on a moon orbiting an exo-planet and observe the life there that speculative astro-science suggests is possible. \nShare this:RedditWhatsAppTwitterFacebookMoreLinkedInTumblrPinterestTelegram
URL:https://immersive-theatre.com/event/mimikry-exomoon-zurich-switzerland/
CATEGORIES:Other
END:VEVENT
BEGIN:VEVENT
DTSTART;VALUE=DATE:20230905
DTEND;VALUE=DATE:20230913
DTSTAMP:20260421T172842
CREATED:20230901T133538Z
LAST-MODIFIED:20230901T133538Z
UID:445-1693872000-1694563199@immersive-theatre.com
SUMMARY:Pigs [Berlin]
DESCRIPTION:In the interactive installation “Pigs”\, the audience sits as a 30-member citizens’ assembly in pigsties. In the middle of the round\, two actors negotiate their ambivalent relationship to meat consumption. \nShare this:RedditWhatsAppTwitterFacebookMoreLinkedInTumblrPinterestTelegram
URL:https://immersive-theatre.com/event/pigs-berlin/
CATEGORIES:Berlin,Germany
END:VEVENT
BEGIN:VEVENT
DTSTART;VALUE=DATE:20230810
DTEND;VALUE=DATE:20230827
DTSTAMP:20260421T172842
CREATED:20230809T152310Z
LAST-MODIFIED:20230809T152310Z
UID:431-1691625600-1693094399@immersive-theatre.com
SUMMARY:Die Namenlosen | Verfolg in Hamburg | Germany
DESCRIPTION:Share this:RedditWhatsAppTwitterFacebookMoreLinkedInTumblrPinterestTelegram
URL:https://immersive-theatre.com/event/die-namenlosen-verfolg-in-hamburg-germany/
CATEGORIES:Germany
END:VEVENT
BEGIN:VEVENT
DTSTART;VALUE=DATE:20230530
DTEND;VALUE=DATE:20230605
DTSTAMP:20260421T172842
CREATED:20221004T205309Z
LAST-MODIFIED:20221004T211313Z
UID:402-1685404800-1685923199@immersive-theatre.com
SUMMARY:Performing Arts Festival [Berlin\, Germany]
DESCRIPTION:Share this:RedditWhatsAppTwitterFacebookMoreLinkedInTumblrPinterestTelegram
URL:https://immersive-theatre.com/event/performing-arts-festival-berlin-germany/
CATEGORIES:Berlin
END:VEVENT
BEGIN:VEVENT
DTSTART;VALUE=DATE:20230504
DTEND;VALUE=DATE:20230617
DTSTAMP:20260421T172842
CREATED:20230513T091108Z
LAST-MODIFIED:20230513T091108Z
UID:419-1683158400-1686959999@immersive-theatre.com
SUMMARY:Die Namenlosen | Nesterval [Wien]
DESCRIPTION:Share this:RedditWhatsAppTwitterFacebookMoreLinkedInTumblrPinterestTelegram
URL:https://immersive-theatre.com/event/die-namenlosen-nesterval-wien/
CATEGORIES:Other
END:VEVENT
BEGIN:VEVENT
DTSTART;VALUE=DATE:20221208
DTEND;VALUE=DATE:20221212
DTSTAMP:20260421T172842
CREATED:20221005T191359Z
LAST-MODIFIED:20221005T191359Z
UID:404-1670457600-1670803199@immersive-theatre.com
SUMMARY:Fuchsbau [Berlin\, Germany]
DESCRIPTION:Share this:RedditWhatsAppTwitterFacebookMoreLinkedInTumblrPinterestTelegram
URL:https://immersive-theatre.com/event/fuchsbau-berlin-germany/
CATEGORIES:Berlin,Germany
END:VEVENT
BEGIN:VEVENT
DTSTART;VALUE=DATE:20221208
DTEND;VALUE=DATE:20221212
DTSTAMP:20260421T172842
CREATED:20220409T172452Z
LAST-MODIFIED:20220409T173531Z
UID:248-1670457600-1670803199@immersive-theatre.com
SUMMARY:Eutopia from Trickster-P [Zurich\, Switzerland]
DESCRIPTION:Share this:RedditWhatsAppTwitterFacebookMoreLinkedInTumblrPinterestTelegram
URL:https://immersive-theatre.com/event/eutopia-from-trickster-p-switzerland/
CATEGORIES:Other
END:VEVENT
BEGIN:VEVENT
DTSTART;VALUE=DATE:20221103
DTEND;VALUE=DATE:20221113
DTSTAMP:20260421T172842
CREATED:20221027T144539Z
LAST-MODIFIED:20221027T144539Z
UID:413-1667433600-1668297599@immersive-theatre.com
SUMMARY:Colab Theatre: The West [London\, UK]
DESCRIPTION:Share this:RedditWhatsAppTwitterFacebookMoreLinkedInTumblrPinterestTelegram
URL:https://immersive-theatre.com/event/colab-theatre-the-west-london-uk/
CATEGORIES:London,UK
END:VEVENT
BEGIN:VEVENT
DTSTART;VALUE=DATE:20221102
DTEND;VALUE=DATE:20221219
DTSTAMP:20260421T172842
CREATED:20220410T075134Z
LAST-MODIFIED:20220410T075134Z
UID:275-1667347200-1671407999@immersive-theatre.com
SUMMARY:ARKHAM ASYLUM [London\, UK]
DESCRIPTION:Share this:RedditWhatsAppTwitterFacebookMoreLinkedInTumblrPinterestTelegram
URL:https://immersive-theatre.com/event/arkham-asylum-london-uk/
CATEGORIES:London,UK
END:VEVENT
BEGIN:VEVENT
DTSTART;VALUE=DATE:20221027
DTEND;VALUE=DATE:20221107
DTSTAMP:20260421T172842
CREATED:20221027T144119Z
LAST-MODIFIED:20221027T144119Z
UID:411-1666828800-1667779199@immersive-theatre.com
SUMMARY:Darkfield: FLIGHT @ LLAIS 22 [Wales\, UK]
DESCRIPTION:Share this:RedditWhatsAppTwitterFacebookMoreLinkedInTumblrPinterestTelegram
URL:https://immersive-theatre.com/event/darkfield-flight-llais-22-wales-uk/
CATEGORIES:UK
END:VEVENT
BEGIN:VEVENT
DTSTART;VALUE=DATE:20221025
DTEND;VALUE=DATE:20221106
DTSTAMP:20260421T172842
CREATED:20221027T143908Z
LAST-MODIFIED:20221027T143939Z
UID:409-1666656000-1667692799@immersive-theatre.com
SUMMARY:Darkfield: SÉANCE [Watford\, UK]
DESCRIPTION:Share this:RedditWhatsAppTwitterFacebookMoreLinkedInTumblrPinterestTelegram
URL:https://immersive-theatre.com/event/darkfield-seance-watford-uk/
CATEGORIES:UK
END:VEVENT
BEGIN:VEVENT
DTSTART;VALUE=DATE:20221013
DTEND;VALUE=DATE:20221113
DTSTAMP:20260421T172842
CREATED:20221027T141356Z
LAST-MODIFIED:20221027T142125Z
UID:407-1665619200-1668297599@immersive-theatre.com
SUMMARY:Die Letzten Tage des Nestervals [Eckartsau\, Austria]
DESCRIPTION:Share this:RedditWhatsAppTwitterFacebookMoreLinkedInTumblrPinterestTelegram
URL:https://immersive-theatre.com/event/die-letzten-tage-des-nestervals-eckartsau-austria/
CATEGORIES:Other
END:VEVENT
BEGIN:VEVENT
DTSTART;VALUE=DATE:20221008
DTEND;VALUE=DATE:20221130
DTSTAMP:20260421T172842
CREATED:20220410T195418Z
LAST-MODIFIED:20220410T195504Z
UID:286-1665187200-1669766399@immersive-theatre.com
SUMMARY:Zombie Inferno: Interactive Theatre [Germany]
DESCRIPTION:Share this:RedditWhatsAppTwitterFacebookMoreLinkedInTumblrPinterestTelegram
URL:https://immersive-theatre.com/event/zombie-inferno-germany/
CATEGORIES:Berlin,Germany
END:VEVENT
BEGIN:VEVENT
DTSTART;VALUE=DATE:20221003
DTEND;VALUE=DATE:20221004
DTSTAMP:20260421T172842
CREATED:20220818T180147Z
LAST-MODIFIED:20220818T180147Z
UID:399-1664755200-1664841599@immersive-theatre.com
SUMMARY:Devils Exorcist [Berlin+\, Germany]
DESCRIPTION:Share this:RedditWhatsAppTwitterFacebookMoreLinkedInTumblrPinterestTelegram
URL:https://immersive-theatre.com/event/devils-exorcist-berlin-germany/
CATEGORIES:Berlin,Germany
END:VEVENT
BEGIN:VEVENT
DTSTART;VALUE=DATE:20220910
DTEND;VALUE=DATE:20221110
DTSTAMP:20260421T172842
CREATED:20220410T195659Z
LAST-MODIFIED:20220410T195659Z
UID:289-1662768000-1668038399@immersive-theatre.com
SUMMARY:Devil's Exorcist: Interactive Theatre [Germany]
DESCRIPTION:Share this:RedditWhatsAppTwitterFacebookMoreLinkedInTumblrPinterestTelegram
URL:https://immersive-theatre.com/event/devils-exorcist-interactive-theatre-germany/
CATEGORIES:Berlin,Germany
END:VEVENT
BEGIN:VEVENT
DTSTART;VALUE=DATE:20220627
DTEND;VALUE=DATE:20220714
DTSTAMP:20260421T172842
CREATED:20220409T173820Z
LAST-MODIFIED:20220409T191930Z
UID:256-1656288000-1657756799@immersive-theatre.com
SUMMARY:Theater ANU. Poetische Welten [Berlin\, Germany]
DESCRIPTION:Share this:RedditWhatsAppTwitterFacebookMoreLinkedInTumblrPinterestTelegram
URL:https://immersive-theatre.com/event/theater-anu-poetische-welten-berlin/
CATEGORIES:Berlin,Germany
END:VEVENT
BEGIN:VEVENT
DTSTART;VALUE=DATE:20220602
DTEND;VALUE=DATE:20220606
DTSTAMP:20260421T172842
CREATED:20220409T191909Z
LAST-MODIFIED:20220514T232141Z
UID:262-1654128000-1654473599@immersive-theatre.com
SUMMARY:LIFE: Eine DNA ENGINE - OutOfTheBox [Berlin\, Germany]
DESCRIPTION:Share this:RedditWhatsAppTwitterFacebookMoreLinkedInTumblrPinterestTelegram
URL:https://immersive-theatre.com/event/life-eine-dna-engine-outofthebox-berlin-germany/
CATEGORIES:Berlin,Germany
END:VEVENT
BEGIN:VEVENT
DTSTART;VALUE=DATE:20220601
DTEND;VALUE=DATE:20220606
DTSTAMP:20260421T172842
CREATED:20220514T232108Z
LAST-MODIFIED:20220514T232108Z
UID:378-1654041600-1654473599@immersive-theatre.com
SUMMARY:Line of Fire [London\, UK]
DESCRIPTION:Share this:RedditWhatsAppTwitterFacebookMoreLinkedInTumblrPinterestTelegram
URL:https://immersive-theatre.com/event/line-of-fire-london-uk/
CATEGORIES:London,UK
END:VEVENT
BEGIN:VEVENT
DTSTART;VALUE=DATE:20220521
DTEND;VALUE=DATE:20220524
DTSTAMP:20260421T172842
CREATED:20220514T211115Z
LAST-MODIFIED:20220514T211115Z
UID:375-1653091200-1653350399@immersive-theatre.com
SUMMARY:Schöpferwissen [Berlin\, Germany]
DESCRIPTION:Share this:RedditWhatsAppTwitterFacebookMoreLinkedInTumblrPinterestTelegram
URL:https://immersive-theatre.com/event/schopferwissen-berlin-germany/
CATEGORIES:Berlin,Germany
END:VEVENT
BEGIN:VEVENT
DTSTART;VALUE=DATE:20220520
DTEND;VALUE=DATE:20220905
DTSTAMP:20260421T172842
CREATED:20220410T074457Z
LAST-MODIFIED:20220410T074457Z
UID:273-1653004800-1662335999@immersive-theatre.com
SUMMARY:The Gunpowder Plot [London\, UK]
DESCRIPTION:Share this:RedditWhatsAppTwitterFacebookMoreLinkedInTumblrPinterestTelegram
URL:https://immersive-theatre.com/event/the-gunpowder-plot-london-uk/
CATEGORIES:London,UK
END:VEVENT
BEGIN:VEVENT
DTSTART;VALUE=DATE:20220518
DTEND;VALUE=DATE:20220522
DTSTAMP:20260421T172842
CREATED:20220423T075121Z
LAST-MODIFIED:20220423T075121Z
UID:363-1652832000-1653177599@immersive-theatre.com
SUMMARY:The Last Sunset [Gabrovo\, Bulgaria]
DESCRIPTION:Share this:RedditWhatsAppTwitterFacebookMoreLinkedInTumblrPinterestTelegram
URL:https://immersive-theatre.com/event/the-last-sunset-gabrovo-bulgaria/
CATEGORIES:Other
END:VEVENT
END:VCALENDAR