BEGIN:VCALENDAR
VERSION:2.0
PRODID:-//News about Immersive Theatres in Europe - ECPv5.14.1//NONSGML v1.0//EN
CALSCALE:GREGORIAN
METHOD:PUBLISH
X-WR-CALNAME:News about Immersive Theatres in Europe
X-ORIGINAL-URL:https://immersive-theatre.com
X-WR-CALDESC:Events for News about Immersive Theatres in Europe
REFRESH-INTERVAL;VALUE=DURATION:PT1H
X-Robots-Tag:noindex
X-PUBLISHED-TTL:PT1H
BEGIN:VTIMEZONE
TZID:UTC
BEGIN:STANDARD
TZOFFSETFROM:+0000
TZOFFSETTO:+0000
TZNAME:UTC
DTSTART:20240101T000000
END:STANDARD
END:VTIMEZONE
BEGIN:VEVENT
DTSTART;VALUE=DATE:20240130
DTEND;VALUE=DATE:20250601
DTSTAMP:20260425T154203
CREATED:20250130T113603Z
LAST-MODIFIED:20250130T113603Z
UID:502-1706572800-1748735999@immersive-theatre.com
SUMMARY:Phantom Peak [London\, UK]
DESCRIPTION:Phantom Peak is an immersive open-world adventure in Canada Water\, London. \nYou step into a fully realised town inhabited by quirky characters and full to the brim with mysteries and stories to discover. \nSpend 4+ hours exploring the town\, enjoying food and drink in our wild-west themed Thirsty Frontier Saloon\, and interacting with immersive sets\, technology\, and live actors. \nShare this:RedditWhatsAppTwitterFacebookMoreLinkedInTumblrPinterestTelegram
URL:https://immersive-theatre.com/event/phantom-peak-london-uk/
CATEGORIES:London,UK
END:VEVENT
BEGIN:VEVENT
DTSTART;VALUE=DATE:20240327
DTEND;VALUE=DATE:20260101
DTSTAMP:20260425T154203
CREATED:20231219T162214Z
LAST-MODIFIED:20250130T110019Z
UID:486-1711497600-1767225599@immersive-theatre.com
SUMMARY:Bridge Commander [UK\, London]
DESCRIPTION:A fully interactive starship bridge simulator\, powered by technology and live actors. Somewhere between escape room and immersive theatre. \nShare this:RedditWhatsAppTwitterFacebookMoreLinkedInTumblrPinterestTelegram
URL:https://immersive-theatre.com/event/bridge-commander-uk-london/
CATEGORIES:London,UK
END:VEVENT
BEGIN:VEVENT
DTSTART;VALUE=DATE:20250424
DTEND;VALUE=DATE:20270101
DTSTAMP:20260425T154203
CREATED:20231219T160930Z
LAST-MODIFIED:20250130T111907Z
UID:483-1745452800-1798761599@immersive-theatre.com
SUMMARY:Key of Dreams [UK]
DESCRIPTION:An event spread over twenty-four hours. A historic manor house where fact and fiction rub shoulders over sumptuous meals in the oak-clad banqueting hall. Where each glorious vista\, snatched musical refrain or hushed conversation with one of the many characters might unlock a moment of revelation. This show can be seen as a successor to the Locksmith’s Dream. First runs were in April 2024. \nShare this:RedditWhatsAppTwitterFacebookMoreLinkedInTumblrPinterestTelegram
URL:https://immersive-theatre.com/event/key-of-dreams/
CATEGORIES:UK
END:VEVENT
BEGIN:VEVENT
DTSTART;VALUE=DATE:20250510
DTEND;VALUE=DATE:20250714
DTSTAMP:20260425T154203
CREATED:20250404T224047Z
LAST-MODIFIED:20250404T224047Z
UID:506-1746835200-1752451199@immersive-theatre.com
SUMMARY:Gatsby! Immersive theatre in Görlitz [Germany]
DESCRIPTION:A 2.5-hour immersive experience in Görtlitz that is only available for a limited time. Follow actors\, dance in the swing club\, or explore hidden rooms in the large villa.\nExtract from the website in German: \nDie Goldenen Zwanziger kehren zurück! Mit GATSBY!\, einem spektakulären immersiven\nTheatererlebnis von Daniel Morgenroth nach dem Roman DER GROßE GATSBY von F. Scott\nFitzgerald\, erwartet das Publikum ab dem 10. Mai 2025 eine einzigartige Reise in eine längst\nvergangene Epoche. Bis zum 13. Juli 2025 verwandelt sich das historische KEMA-Gelände in\nGörlitz in die schillernde Welt von Jay Gatsby.\nZuschauerinnen und Zuschauer bewegen sich frei durch eine aufwendig gestaltete Kulisse\nvoller Glamour und Geheimnisse – von Gatsbys luxuriöser Villa bis hin zu einem extravaganten\nSwing-Club\, namens Fitzgerald’s. Nach einem gemeinsamen Start entscheidet jeder selbst\,\nwelchen Wegen und Charakteren er oder sie folgt. Wer bleibt an der Bar stehen\, wer entdeckt\ngeheime Räume\, wer tanzt bis zum Morgengrauen im Fitzgerald‘s? Jeder ist seines eigenen\nGlückes Schmied und geht auf eine ganz individuelle Reise durch das Long Island der 1920er. \nShare this:RedditWhatsAppTwitterFacebookMoreLinkedInTumblrPinterestTelegram
URL:https://immersive-theatre.com/event/gatsby-immersive-theatre-in-gorlitz-germany/
CATEGORIES:Germany
END:VEVENT
BEGIN:VEVENT
DTSTART;VALUE=DATE:20251029
DTEND;VALUE=DATE:20251103
DTSTAMP:20260425T154203
CREATED:20230911T152352Z
LAST-MODIFIED:20250130T111637Z
UID:450-1761696000-1762127999@immersive-theatre.com
SUMMARY:The Locksmith’s Dream [UK]
DESCRIPTION:Set in the occult 1920’s\, The Locksmith’s Dream invites guests to step into a magnificent 17th century house in the Monmouthshire  countryside. A mysterious setting which allows guests to explore their own curiosity and moments of joyous realisation when solving intriguing puzzles. Come for a luxury overnight stay and join a narrative occult scavenger hunt of mysterious proportions. \nThe Locksmith’s Dream is an immersive and interactive overnight experience\, with actors in character throughout\, and a stunning venue to explore with puzzle and narrative elements seamlessly threaded through. It combines a narrative\, scavenger hunt\, escape room and theatrical experience with fine dining and cocktails in a unique and beautiful location. \nShare this:RedditWhatsAppTwitterFacebookMoreLinkedInTumblrPinterestTelegram
URL:https://immersive-theatre.com/event/the-locksmiths-dream-uk-2/
CATEGORIES:UK
END:VEVENT
BEGIN:VEVENT
DTSTART;VALUE=DATE:20260330
DTEND;VALUE=DATE:20260406
DTSTAMP:20260425T154203
CREATED:20260127T141515Z
LAST-MODIFIED:20260127T141551Z
UID:509-1774828800-1775433599@immersive-theatre.com
SUMMARY:Apple of Discord [Nottingham\, UK]
DESCRIPTION:From the official website: \nTheatre company to launch immersive Trojan War production in Nottingham \nA legendary story from the mythical world of Ancient Greece is being brought to life at an unusual venue in Nottingham next month. \n‘Apple of Discord’ is the latest immersive production from the pioneering and critically-acclaimed theatre company Chronic Insanity\, based in the city. \nArtistic Director Joe Strickland aims to provide an experience that rivals the production values of London-based immersive shows from companies like Punchdrunk\, but with affordable ticket prices\, and has local performers at the heart of the magic. \nChronic Insanity has a glowing 7-year track record producing innovative immersive experiences on a variety of scales. It has previously worked with industry giants such as The BBC\, BFI\, and Nottingham Playhouse. \n‘Apple of Discord’ will take place in the Grade II listed People’s Hall in the heart of Nottingham City Centre. This stunningly preserved\, 18th century townhouse has three floors\, with an ornate central staircase\, cellars and subterranean caves. The site has had many uses over the years\, including a working men’s club\, a textile training school\, and a meeting place for the fraternal lodge – ‘The Antediluvian Order of the Buffalo’. Rich in history and dripping with character\, it is an ideal location for an interactive production. \nThis new and dramatic experience of the world of the Trojan War will take place over multiple rooms in the building\, with a cabaret in the main hall\, static exhibitions in other rooms\, and live immersive and interactive performances to transport audiences along the way. \nVisitors can grab a drink\, enjoy the cabaret and watch scenes and stories unfold\, or they can tackle quests and solve puzzles themselves\, and even talk to the Ancient Greek characters. They will also be free to move between different levels of engagement at their own pace\, to tailor their own experience of the legendary story of Troy. \nJoe Strickland says: “For the audience\, it’s not about seeing all of it necessarily. The point is to immerse yourself in a new world\, and know that around every corner there’s going to be something interesting to do\, to see\, and take part in if you’d like to.” \nPeople’s Hall is managed by Nottingham Historic Building Trust\, a National Lottery-funded charity committed to saving at-risk heritage assets across Nottingham. They are delighted to host Chronic Insanity\, and their Development Officer Josh Packham says: “What I particularly liked about Chronic Insanity’s pitch is how the story will be flexible to the spaces we have. This is an excellent opportunity to invite residents and tourists of Nottingham to experience The People’s Hall like never before.” \nStrickland has intentionally pitched ‘Apple of Discord’ as an accessible and affordable offer from the usually expensive world of immersive theatre. The industry has a reputation for eye-watering ticket prices\, not to mention the additional costs of travel\, food and accommodation for anyone outside London. \nBy comparison\, ‘Apple of Discord’ will offer 3-hour tickets for £30 and 2-hour tickets for £20. With cheaper travel costs for people living close to Nottingham\, and the wealth of food options in the city centre\, the experience will be much more affordable than events in the capital. \nStrickland says: “We are trying to create something that is often inaccessible financially and  geographically to people in the East Midlands. Our mission is to widen participation in this exciting form of theatre. The people of this area deserve to experience this wonderful art form. There’s no question that ‘Apple of Discord’ will be the ‘must-see’ show in Nottingham this Spring.” \nTickets for the show can be booked through the following link: https://www.universe.com/events/apple-of-discord-tickets-YKQX9G \nShare this:RedditWhatsAppTwitterFacebookMoreLinkedInTumblrPinterestTelegram
URL:https://immersive-theatre.com/event/apple-of-discord-nottingham-uk/
CATEGORIES:UK
END:VEVENT
END:VCALENDAR