BEGIN:VCALENDAR
VERSION:2.0
PRODID:-//News about Immersive Theatres in Europe - ECPv5.14.1//NONSGML v1.0//EN
CALSCALE:GREGORIAN
METHOD:PUBLISH
X-WR-CALNAME:News about Immersive Theatres in Europe
X-ORIGINAL-URL:https://immersive-theatre.com
X-WR-CALDESC:Events for News about Immersive Theatres in Europe
REFRESH-INTERVAL;VALUE=DURATION:PT1H
X-Robots-Tag:noindex
X-PUBLISHED-TTL:PT1H
BEGIN:VTIMEZONE
TZID:UTC
BEGIN:STANDARD
TZOFFSETFROM:+0000
TZOFFSETTO:+0000
TZNAME:UTC
DTSTART:20230101T000000
END:STANDARD
END:VTIMEZONE
BEGIN:VEVENT
DTSTART;VALUE=DATE:20230914
DTEND;VALUE=DATE:20250203
DTSTAMP:20260422T215130
CREATED:20230901T132526Z
LAST-MODIFIED:20250130T113225Z
UID:436-1694649600-1738540799@immersive-theatre.com
SUMMARY:The Death Of The Crow [Lisbon]
DESCRIPTION:Originally A morte do corvo. The whole play is similar to the work of Punchdrunk. No spoken language apart from the 1:1s. \nShare this:RedditWhatsAppTwitterFacebookMoreLinkedInTumblrPinterestTelegram
URL:https://immersive-theatre.com/event/the-death-of-the-crow-lisbon/
CATEGORIES:Other
END:VEVENT
END:VCALENDAR